BEGIN:VCALENDAR
VERSION:2.0
PRODID:-//habitat-2021.firespring.org//NONSGML kigkonsult.se iCalcreator 2.
 30.10//
CALSCALE:GREGORIAN
METHOD:PUBLISH
UID:f7230d07-f50c-4b26-ba95-76f5d7cb9330
X-WR-CALDESC:
X-WR-RELCALID:a7c38d8e89d003a74221eb5d8419c57b
X-WR-TIMEZONE:America/Chicago
BEGIN:VTIMEZONE
TZID:America/Chicago
BEGIN:STANDARD
TZNAME:CST
DTSTART:20271107T020000
TZOFFSETFROM:-0500
TZOFFSETTO:-0600
RDATE:20281105T020000
END:STANDARD
BEGIN:DAYLIGHT
TZNAME:CDT
DTSTART:20270314T020000
TZOFFSETFROM:-0600
TZOFFSETTO:-0500
RDATE:20280312T020000
RDATE:20290311T020000
END:DAYLIGHT
END:VTIMEZONE
BEGIN:VEVENT
UID:f4545ab0-df5d-412b-97cc-5c92ff5fdde8
DTSTAMP:20260421T033809Z
DESCRIPTION:
DTSTART;TZID=America/Chicago:20271218T090000
DTEND;TZID=America/Chicago:20271218T100000
LOCATION:
SUMMARY:Build It Day
END:VEVENT
END:VCALENDAR
