BEGIN:VCALENDAR
VERSION:2.0
PRODID:-//habitat-2021.firespring.org//NONSGML kigkonsult.se iCalcreator 2.
 30.10//
CALSCALE:GREGORIAN
METHOD:PUBLISH
UID:534e130b-938e-4637-bf1a-9ab163fdc135
X-WR-CALDESC:
X-WR-RELCALID:188d2bc20367841016ade2fe227b4fea
X-WR-TIMEZONE:America/Chicago
BEGIN:VTIMEZONE
TZID:America/Chicago
BEGIN:STANDARD
TZNAME:CST
DTSTART:20271107T020000
TZOFFSETFROM:-0500
TZOFFSETTO:-0600
RDATE:20281105T020000
END:STANDARD
BEGIN:DAYLIGHT
TZNAME:CDT
DTSTART:20270314T020000
TZOFFSETFROM:-0600
TZOFFSETTO:-0500
RDATE:20280312T020000
RDATE:20290311T020000
END:DAYLIGHT
END:VTIMEZONE
BEGIN:VEVENT
UID:ae35b431-287b-43c6-aef6-a99c6fbc7ca7
DTSTAMP:20260421T051513Z
DESCRIPTION:
DTSTART;TZID=America/Chicago:20280115T090000
DTEND;TZID=America/Chicago:20280115T100000
LOCATION:
SUMMARY:Build It Day
END:VEVENT
END:VCALENDAR
