BEGIN:VCALENDAR
VERSION:2.0
PRODID:-//habitat-2021.firespring.org//NONSGML kigkonsult.se iCalcreator 2.
 30.10//
CALSCALE:GREGORIAN
METHOD:PUBLISH
UID:f26aea94-f5fa-4ed8-8fad-83f9d6c0c374
X-WR-CALDESC:
X-WR-RELCALID:53c8fa41791b989419067316ac08f546
X-WR-TIMEZONE:America/Chicago
BEGIN:VTIMEZONE
TZID:America/Chicago
BEGIN:STANDARD
TZNAME:CST
DTSTART:20271107T020000
TZOFFSETFROM:-0500
TZOFFSETTO:-0600
RDATE:20281105T020000
END:STANDARD
BEGIN:DAYLIGHT
TZNAME:CDT
DTSTART:20270314T020000
TZOFFSETFROM:-0600
TZOFFSETTO:-0500
RDATE:20280312T020000
RDATE:20290311T020000
END:DAYLIGHT
END:VTIMEZONE
BEGIN:VEVENT
UID:6c80df6b-a21c-4ec6-affc-9096ab8e0b91
DTSTAMP:20260421T055000Z
DESCRIPTION:
DTSTART;TZID=America/Chicago:20280129T090000
DTEND;TZID=America/Chicago:20280129T100000
LOCATION:
SUMMARY:Build It Day
END:VEVENT
END:VCALENDAR
