BEGIN:VCALENDAR
VERSION:2.0
PRODID:-//habitat-2021.firespring.org//NONSGML kigkonsult.se iCalcreator 2.
 30.10//
CALSCALE:GREGORIAN
METHOD:PUBLISH
UID:1222d2f4-5365-4ad0-8f65-cc66ce9b7f30
X-WR-CALDESC:
X-WR-RELCALID:a21add5c2a687cf4fad7a3356ed9356c
X-WR-TIMEZONE:America/Chicago
BEGIN:VTIMEZONE
TZID:America/Chicago
BEGIN:STANDARD
TZNAME:CST
DTSTART:20271107T020000
TZOFFSETFROM:-0500
TZOFFSETTO:-0600
RDATE:20281105T020000
END:STANDARD
BEGIN:DAYLIGHT
TZNAME:CDT
DTSTART:20270314T020000
TZOFFSETFROM:-0600
TZOFFSETTO:-0500
RDATE:20280312T020000
RDATE:20290311T020000
END:DAYLIGHT
END:VTIMEZONE
BEGIN:VEVENT
UID:89085a22-9588-497f-bb05-8461ee2c8709
DTSTAMP:20260421T070625Z
DESCRIPTION:
DTSTART;TZID=America/Chicago:20280211T183000
DTEND;TZID=America/Chicago:20280211T200000
LOCATION:
SUMMARY:Board Meeting
END:VEVENT
END:VCALENDAR
