BEGIN:VCALENDAR
VERSION:2.0
PRODID:-//habitat-2021.firespring.org//NONSGML kigkonsult.se iCalcreator 2.
 30.10//
CALSCALE:GREGORIAN
METHOD:PUBLISH
UID:db8ea42f-b54e-45b3-a9c2-fdf8e2be01d3
X-WR-CALDESC:
X-WR-RELCALID:133155eac665a9583ec7a42d66b79ac9
X-WR-TIMEZONE:America/Chicago
BEGIN:VTIMEZONE
TZID:America/Chicago
BEGIN:STANDARD
TZNAME:CST
DTSTART:20271107T020000
TZOFFSETFROM:-0500
TZOFFSETTO:-0600
RDATE:20281105T020000
END:STANDARD
BEGIN:DAYLIGHT
TZNAME:CDT
DTSTART:20270314T020000
TZOFFSETFROM:-0600
TZOFFSETTO:-0500
RDATE:20280312T020000
RDATE:20290311T020000
END:DAYLIGHT
END:VTIMEZONE
BEGIN:VEVENT
UID:06c11a42-e916-48f0-a361-33041d0b20d8
DTSTAMP:20260421T072422Z
DESCRIPTION:
DTSTART;TZID=America/Chicago:20280226T090000
DTEND;TZID=America/Chicago:20280226T100000
LOCATION:
SUMMARY:Build It Day
END:VEVENT
END:VCALENDAR
