BEGIN:VCALENDAR
VERSION:2.0
PRODID:-//habitat-2021.firespring.org//NONSGML kigkonsult.se iCalcreator 2.
 30.10//
CALSCALE:GREGORIAN
METHOD:PUBLISH
UID:fb9bf2f6-002f-4929-b4c4-92aef4649678
X-WR-CALDESC:
X-WR-RELCALID:3adecfaf7714cc0d34625ac80e4f29f0
X-WR-TIMEZONE:America/Chicago
BEGIN:VTIMEZONE
TZID:America/Chicago
BEGIN:STANDARD
TZNAME:CST
DTSTART:20271107T020000
TZOFFSETFROM:-0500
TZOFFSETTO:-0600
RDATE:20281105T020000
END:STANDARD
BEGIN:DAYLIGHT
TZNAME:CDT
DTSTART:20270314T020000
TZOFFSETFROM:-0600
TZOFFSETTO:-0500
RDATE:20280312T020000
RDATE:20290311T020000
END:DAYLIGHT
END:VTIMEZONE
BEGIN:VEVENT
UID:57bd6660-db75-4811-a164-5a3bb649bc12
DTSTAMP:20260421T091719Z
DESCRIPTION:
DTSTART;TZID=America/Chicago:20280311T090000
DTEND;TZID=America/Chicago:20280311T100000
LOCATION:
SUMMARY:Build It Day
END:VEVENT
END:VCALENDAR
