BEGIN:VCALENDAR
VERSION:2.0
PRODID:-//habitat-2021.firespring.org//NONSGML kigkonsult.se iCalcreator 2.
 30.10//
CALSCALE:GREGORIAN
METHOD:PUBLISH
UID:557f7206-8424-499b-8f5f-268612f24d13
X-WR-CALDESC:
X-WR-RELCALID:ed5c9e521545e2137c0e17da8f55380d
X-WR-TIMEZONE:America/Chicago
BEGIN:VTIMEZONE
TZID:America/Chicago
BEGIN:STANDARD
TZNAME:CST
DTSTART:20271107T020000
TZOFFSETFROM:-0500
TZOFFSETTO:-0600
RDATE:20281105T020000
END:STANDARD
BEGIN:DAYLIGHT
TZNAME:CDT
DTSTART:20280312T020000
TZOFFSETFROM:-0600
TZOFFSETTO:-0500
RDATE:20290311T020000
END:DAYLIGHT
END:VTIMEZONE
BEGIN:VEVENT
UID:bc5a5276-b5f8-4382-b042-66cbcd556d65
DTSTAMP:20260423T083910Z
DESCRIPTION:
DTSTART;TZID=America/Chicago:20280325T090000
DTEND;TZID=America/Chicago:20280325T100000
LOCATION:
SUMMARY:Build It Day
END:VEVENT
END:VCALENDAR
