BEGIN:VCALENDAR
VERSION:2.0
PRODID:-//habitat-2021.firespring.org//NONSGML kigkonsult.se iCalcreator 2.
 30.10//
CALSCALE:GREGORIAN
METHOD:PUBLISH
UID:0c574d5a-c9b2-4116-9410-327989d48772
X-WR-CALDESC:
X-WR-RELCALID:3f4923cabda2c244278a881c5167dc5c
X-WR-TIMEZONE:America/Chicago
BEGIN:VTIMEZONE
TZID:America/Chicago
BEGIN:STANDARD
TZNAME:CST
DTSTART:20271107T020000
TZOFFSETFROM:-0500
TZOFFSETTO:-0600
RDATE:20281105T020000
END:STANDARD
BEGIN:DAYLIGHT
TZNAME:CDT
DTSTART:20280312T020000
TZOFFSETFROM:-0600
TZOFFSETTO:-0500
RDATE:20290311T020000
END:DAYLIGHT
END:VTIMEZONE
BEGIN:VEVENT
UID:d1e17b1a-36be-4f08-86ca-11aca06cdc07
DTSTAMP:20260423T095336Z
DESCRIPTION:
DTSTART;TZID=America/Chicago:20280408T090000
DTEND;TZID=America/Chicago:20280408T100000
LOCATION:
SUMMARY:Build It Day
END:VEVENT
END:VCALENDAR
