BEGIN:VCALENDAR
VERSION:2.0
PRODID:-//habitat-2021.firespring.org//NONSGML kigkonsult.se iCalcreator 2.
 30.10//
CALSCALE:GREGORIAN
METHOD:PUBLISH
UID:405a1322-bd03-4336-b2f4-5d359a7ad8ef
X-WR-CALDESC:
X-WR-RELCALID:ae842f9da0cb05db1e4684e836bceeea
X-WR-TIMEZONE:America/Chicago
BEGIN:VTIMEZONE
TZID:America/Chicago
BEGIN:STANDARD
TZNAME:CST
DTSTART:20271107T020000
TZOFFSETFROM:-0500
TZOFFSETTO:-0600
RDATE:20281105T020000
RDATE:20291104T020000
END:STANDARD
BEGIN:DAYLIGHT
TZNAME:CDT
DTSTART:20280312T020000
TZOFFSETFROM:-0600
TZOFFSETTO:-0500
RDATE:20290311T020000
END:DAYLIGHT
END:VTIMEZONE
BEGIN:VEVENT
UID:eae762f0-71c7-4e43-b04e-c245ea65842a
DTSTAMP:20260421T120553Z
DESCRIPTION:
DTSTART;TZID=America/Chicago:20280512T183000
DTEND;TZID=America/Chicago:20280512T200000
LOCATION:
SUMMARY:Board Meeting
END:VEVENT
END:VCALENDAR
