BEGIN:VCALENDAR
VERSION:2.0
PRODID:-//habitat-2021.firespring.org//NONSGML kigkonsult.se iCalcreator 2.
 30.10//
CALSCALE:GREGORIAN
METHOD:PUBLISH
UID:1c13ebdb-304f-461e-baf3-1034b9bc236a
X-WR-CALDESC:
X-WR-RELCALID:a90f43a9ee15b0e1f909d1b21a82b9fc
X-WR-TIMEZONE:America/Chicago
BEGIN:VTIMEZONE
TZID:America/Chicago
BEGIN:STANDARD
TZNAME:CST
DTSTART:20271107T020000
TZOFFSETFROM:-0500
TZOFFSETTO:-0600
RDATE:20281105T020000
RDATE:20291104T020000
END:STANDARD
BEGIN:DAYLIGHT
TZNAME:CDT
DTSTART:20280312T020000
TZOFFSETFROM:-0600
TZOFFSETTO:-0500
RDATE:20290311T020000
END:DAYLIGHT
END:VTIMEZONE
BEGIN:VEVENT
UID:73de7da5-eb88-428f-bf47-bc99195f1a0d
DTSTAMP:20260421T134350Z
DESCRIPTION:
DTSTART;TZID=America/Chicago:20280603T090000
DTEND;TZID=America/Chicago:20280603T100000
LOCATION:
SUMMARY:Build It Day
END:VEVENT
END:VCALENDAR
