BEGIN:VCALENDAR
VERSION:2.0
PRODID:-//habitat-2021.firespring.org//NONSGML kigkonsult.se iCalcreator 2.
 30.10//
CALSCALE:GREGORIAN
METHOD:PUBLISH
UID:2aea32fa-cc5c-49f9-b1f8-7360a59f4093
X-WR-CALDESC:
X-WR-RELCALID:25c6b17211864d4ee801e848b2bd5ba9
X-WR-TIMEZONE:America/Chicago
BEGIN:VTIMEZONE
TZID:America/Chicago
BEGIN:STANDARD
TZNAME:CST
DTSTART:20271107T020000
TZOFFSETFROM:-0500
TZOFFSETTO:-0600
RDATE:20281105T020000
RDATE:20291104T020000
END:STANDARD
BEGIN:DAYLIGHT
TZNAME:CDT
DTSTART:20280312T020000
TZOFFSETFROM:-0600
TZOFFSETTO:-0500
RDATE:20290311T020000
END:DAYLIGHT
END:VTIMEZONE
BEGIN:VEVENT
UID:3df55133-628a-4019-9082-70006c0b959a
DTSTAMP:20260421T150219Z
DESCRIPTION:
DTSTART;TZID=America/Chicago:20280701T090000
DTEND;TZID=America/Chicago:20280701T100000
LOCATION:
SUMMARY:Build It Day
END:VEVENT
END:VCALENDAR
