BEGIN:VCALENDAR
VERSION:2.0
PRODID:-//habitat-2021.firespring.org//NONSGML kigkonsult.se iCalcreator 2.
 30.10//
CALSCALE:GREGORIAN
METHOD:PUBLISH
UID:3c5b9671-ddfb-4c2a-bc4b-1193ad67dc91
X-WR-CALDESC:
X-WR-RELCALID:7d07e1e6a5c835b846f9042fdf9cf97b
X-WR-TIMEZONE:America/Chicago
BEGIN:VTIMEZONE
TZID:America/Chicago
BEGIN:STANDARD
TZNAME:CST
DTSTART:20271107T020000
TZOFFSETFROM:-0500
TZOFFSETTO:-0600
RDATE:20281105T020000
RDATE:20291104T020000
END:STANDARD
BEGIN:DAYLIGHT
TZNAME:CDT
DTSTART:20280312T020000
TZOFFSETFROM:-0600
TZOFFSETTO:-0500
RDATE:20290311T020000
END:DAYLIGHT
END:VTIMEZONE
BEGIN:VEVENT
UID:d3042002-c2b1-4d1d-9a8a-ec974410a97e
DTSTAMP:20260421T152831Z
DESCRIPTION:
DTSTART;TZID=America/Chicago:20280714T183000
DTEND;TZID=America/Chicago:20280714T200000
LOCATION:
SUMMARY:Board Meeting
END:VEVENT
END:VCALENDAR
