BEGIN:VCALENDAR
VERSION:2.0
PRODID:-//habitat-2021.firespring.org//NONSGML kigkonsult.se iCalcreator 2.
 30.10//
CALSCALE:GREGORIAN
METHOD:PUBLISH
UID:39a9abce-518e-4aa6-a8a5-be258433afe0
X-WR-CALDESC:
X-WR-RELCALID:ca1d3c1e39ed1de35309908bcb0f0c13
X-WR-TIMEZONE:America/Chicago
BEGIN:VTIMEZONE
TZID:America/Chicago
BEGIN:STANDARD
TZNAME:CST
DTSTART:20271107T020000
TZOFFSETFROM:-0500
TZOFFSETTO:-0600
RDATE:20281105T020000
RDATE:20291104T020000
END:STANDARD
BEGIN:DAYLIGHT
TZNAME:CDT
DTSTART:20280312T020000
TZOFFSETFROM:-0600
TZOFFSETTO:-0500
RDATE:20290311T020000
END:DAYLIGHT
END:VTIMEZONE
BEGIN:VEVENT
UID:6d5dc10e-37c2-4053-8a41-7f8b3a0cde4e
DTSTAMP:20260421T163318Z
DESCRIPTION:
DTSTART;TZID=America/Chicago:20280812T090000
DTEND;TZID=America/Chicago:20280812T100000
LOCATION:
SUMMARY:Build It Day
END:VEVENT
END:VCALENDAR
