BEGIN:VCALENDAR
VERSION:2.0
PRODID:-//habitat-2021.firespring.org//NONSGML kigkonsult.se iCalcreator 2.
 30.10//
CALSCALE:GREGORIAN
METHOD:PUBLISH
UID:5825c0f9-d70b-4be7-88be-edffc8134e8b
X-WR-CALDESC:
X-WR-RELCALID:33200aba84e5637df57e68dc4e5e9904
X-WR-TIMEZONE:America/Chicago
BEGIN:VTIMEZONE
TZID:America/Chicago
BEGIN:STANDARD
TZNAME:CST
DTSTART:20271107T020000
TZOFFSETFROM:-0500
TZOFFSETTO:-0600
RDATE:20281105T020000
RDATE:20291104T020000
END:STANDARD
BEGIN:DAYLIGHT
TZNAME:CDT
DTSTART:20280312T020000
TZOFFSETFROM:-0600
TZOFFSETTO:-0500
RDATE:20290311T020000
END:DAYLIGHT
END:VTIMEZONE
BEGIN:VEVENT
UID:de058432-b115-448e-8e8c-c38dbca1e6b7
DTSTAMP:20260421T163257Z
DESCRIPTION:
DTSTART;TZID=America/Chicago:20280826T090000
DTEND;TZID=America/Chicago:20280826T100000
LOCATION:
SUMMARY:Build It Day
END:VEVENT
END:VCALENDAR
