BEGIN:VCALENDAR
VERSION:2.0
PRODID:-//habitat-2021.firespring.org//NONSGML kigkonsult.se iCalcreator 2.
 30.10//
CALSCALE:GREGORIAN
METHOD:PUBLISH
UID:6bfffd3e-f27a-400d-bd86-ef176303f4e2
X-WR-CALDESC:
X-WR-RELCALID:e9c50b6ed398dcae4436c16adb4ce9e2
X-WR-TIMEZONE:America/Chicago
BEGIN:VTIMEZONE
TZID:America/Chicago
BEGIN:STANDARD
TZNAME:CST
DTSTART:20271107T020000
TZOFFSETFROM:-0500
TZOFFSETTO:-0600
RDATE:20281105T020000
RDATE:20291104T020000
END:STANDARD
BEGIN:DAYLIGHT
TZNAME:CDT
DTSTART:20280312T020000
TZOFFSETFROM:-0600
TZOFFSETTO:-0500
RDATE:20290311T020000
RDATE:20300310T020000
END:DAYLIGHT
END:VTIMEZONE
BEGIN:VEVENT
UID:8182489d-7bbc-46e9-81c5-358dd55a7b2a
DTSTAMP:20260421T180534Z
DESCRIPTION:
DTSTART;TZID=America/Chicago:20280908T183000
DTEND;TZID=America/Chicago:20280908T200000
LOCATION:
SUMMARY:Board Meeting
END:VEVENT
END:VCALENDAR
