BEGIN:VCALENDAR
VERSION:2.0
PRODID:-//habitat-2021.firespring.org//NONSGML kigkonsult.se iCalcreator 2.
 30.10//
CALSCALE:GREGORIAN
METHOD:PUBLISH
UID:b215d786-8562-42df-b98c-dcb02d2d8730
X-WR-CALDESC:
X-WR-RELCALID:a2be26856662f6c0e63beff825d64fa0
X-WR-TIMEZONE:America/Chicago
BEGIN:VTIMEZONE
TZID:America/Chicago
BEGIN:STANDARD
TZNAME:CST
DTSTART:20271107T020000
TZOFFSETFROM:-0500
TZOFFSETTO:-0600
RDATE:20281105T020000
RDATE:20291104T020000
END:STANDARD
BEGIN:DAYLIGHT
TZNAME:CDT
DTSTART:20280312T020000
TZOFFSETFROM:-0600
TZOFFSETTO:-0500
RDATE:20290311T020000
RDATE:20300310T020000
END:DAYLIGHT
END:VTIMEZONE
BEGIN:VEVENT
UID:076bac6f-66e1-4b4d-b75a-7b7138fd910f
DTSTAMP:20260421T180534Z
DESCRIPTION:
DTSTART;TZID=America/Chicago:20280923T090000
DTEND;TZID=America/Chicago:20280923T100000
LOCATION:
SUMMARY:Build It Day
END:VEVENT
END:VCALENDAR
