BEGIN:VCALENDAR
VERSION:2.0
PRODID:-//habitat-2021.firespring.org//NONSGML kigkonsult.se iCalcreator 2.
 30.10//
CALSCALE:GREGORIAN
METHOD:PUBLISH
UID:9f1d47fe-c865-414b-ab97-fe9ba1f28095
X-WR-CALDESC:
X-WR-RELCALID:871d479d28d912dfc8f4009cea475ad5
X-WR-TIMEZONE:America/Chicago
BEGIN:VTIMEZONE
TZID:America/Chicago
BEGIN:STANDARD
TZNAME:CST
DTSTART:20271107T020000
TZOFFSETFROM:-0500
TZOFFSETTO:-0600
RDATE:20281105T020000
RDATE:20291104T020000
END:STANDARD
BEGIN:DAYLIGHT
TZNAME:CDT
DTSTART:20280312T020000
TZOFFSETFROM:-0600
TZOFFSETTO:-0500
RDATE:20290311T020000
RDATE:20300310T020000
END:DAYLIGHT
END:VTIMEZONE
BEGIN:VEVENT
UID:c7f59ae4-a10f-4f64-8ee0-276be75c4d6d
DTSTAMP:20260421T192823Z
DESCRIPTION:
DTSTART;TZID=America/Chicago:20281013T183000
DTEND;TZID=America/Chicago:20281013T200000
LOCATION:
SUMMARY:Board Meeting
END:VEVENT
END:VCALENDAR
