BEGIN:VCALENDAR
VERSION:2.0
PRODID:-//habitat-2021.firespring.org//NONSGML kigkonsult.se iCalcreator 2.
 30.10//
CALSCALE:GREGORIAN
METHOD:PUBLISH
UID:74d5f286-0441-46e8-9102-9b0a1c89cef0
X-WR-CALDESC:
X-WR-RELCALID:44f8da5675f0b8658ffec536a3148900
X-WR-TIMEZONE:America/Chicago
BEGIN:VTIMEZONE
TZID:America/Chicago
BEGIN:STANDARD
TZNAME:CST
DTSTART:20281105T020000
TZOFFSETFROM:-0500
TZOFFSETTO:-0600
RDATE:20291104T020000
END:STANDARD
BEGIN:DAYLIGHT
TZNAME:CDT
DTSTART:20280312T020000
TZOFFSETFROM:-0600
TZOFFSETTO:-0500
RDATE:20290311T020000
RDATE:20300310T020000
END:DAYLIGHT
END:VTIMEZONE
BEGIN:VEVENT
UID:a8827c86-3379-4521-b834-88540908470b
DTSTAMP:20260421T211228Z
DESCRIPTION:
DTSTART;TZID=America/Chicago:20281118T090000
DTEND;TZID=America/Chicago:20281118T100000
LOCATION:
SUMMARY:Build It Day
END:VEVENT
END:VCALENDAR
