BEGIN:VCALENDAR
VERSION:2.0
PRODID:-//habitat-2021.firespring.org//NONSGML kigkonsult.se iCalcreator 2.
 30.10//
CALSCALE:GREGORIAN
METHOD:PUBLISH
UID:4fcea762-2fff-400e-a385-1c9c871b422b
X-WR-CALDESC:
X-WR-RELCALID:22bf4479848f4e8d1e7a10b8fdc684fe
X-WR-TIMEZONE:America/Chicago
BEGIN:VTIMEZONE
TZID:America/Chicago
BEGIN:STANDARD
TZNAME:CST
DTSTART:20281105T020000
TZOFFSETFROM:-0500
TZOFFSETTO:-0600
RDATE:20291104T020000
END:STANDARD
BEGIN:DAYLIGHT
TZNAME:CDT
DTSTART:20280312T020000
TZOFFSETFROM:-0600
TZOFFSETTO:-0500
RDATE:20290311T020000
RDATE:20300310T020000
END:DAYLIGHT
END:VTIMEZONE
BEGIN:VEVENT
UID:2fe451d6-2738-447f-be58-3f416da4ee2b
DTSTAMP:20260421T234139Z
DESCRIPTION:
DTSTART;TZID=America/Chicago:20281202T090000
DTEND;TZID=America/Chicago:20281202T100000
LOCATION:
SUMMARY:Build It Day
END:VEVENT
END:VCALENDAR
