BEGIN:VCALENDAR
VERSION:2.0
PRODID:-//habitat-2021.firespring.org//NONSGML kigkonsult.se iCalcreator 2.
 30.10//
CALSCALE:GREGORIAN
METHOD:PUBLISH
UID:9a9a7e0b-aab3-4fb7-b782-0c5b1eca7de8
X-WR-CALDESC:
X-WR-RELCALID:e6a947e8c8c995f8bd55e02717fdcf54
X-WR-TIMEZONE:America/Chicago
BEGIN:VTIMEZONE
TZID:America/Chicago
BEGIN:STANDARD
TZNAME:CST
DTSTART:20281105T020000
TZOFFSETFROM:-0500
TZOFFSETTO:-0600
RDATE:20291104T020000
END:STANDARD
BEGIN:DAYLIGHT
TZNAME:CDT
DTSTART:20280312T020000
TZOFFSETFROM:-0600
TZOFFSETTO:-0500
RDATE:20290311T020000
RDATE:20300310T020000
END:DAYLIGHT
END:VTIMEZONE
BEGIN:VEVENT
UID:1a488daa-d184-4ef0-98a6-a9505fbdbc69
DTSTAMP:20260421T234301Z
DESCRIPTION:
DTSTART;TZID=America/Chicago:20281208T183000
DTEND;TZID=America/Chicago:20281208T200000
LOCATION:
SUMMARY:Board Meeting
END:VEVENT
END:VCALENDAR
