BEGIN:VCALENDAR
VERSION:2.0
PRODID:-//habitat-2021.firespring.org//NONSGML kigkonsult.se iCalcreator 2.
 30.10//
CALSCALE:GREGORIAN
METHOD:PUBLISH
UID:9db4c4b0-5630-4bad-9c8a-253e3168eeee
X-WR-CALDESC:
X-WR-RELCALID:728432971002899190ab8e09f2ffec1e
X-WR-TIMEZONE:America/Chicago
BEGIN:VTIMEZONE
TZID:America/Chicago
BEGIN:STANDARD
TZNAME:CST
DTSTART:20281105T020000
TZOFFSETFROM:-0500
TZOFFSETTO:-0600
RDATE:20291104T020000
END:STANDARD
BEGIN:DAYLIGHT
TZNAME:CDT
DTSTART:20280312T020000
TZOFFSETFROM:-0600
TZOFFSETTO:-0500
RDATE:20290311T020000
RDATE:20300310T020000
END:DAYLIGHT
END:VTIMEZONE
BEGIN:VEVENT
UID:4bc4b755-1974-4fe9-af6d-d193185dfd01
DTSTAMP:20260421T234438Z
DESCRIPTION:
DTSTART;TZID=America/Chicago:20281216T090000
DTEND;TZID=America/Chicago:20281216T100000
LOCATION:
SUMMARY:Build It Day
END:VEVENT
END:VCALENDAR
