BEGIN:VCALENDAR
VERSION:2.0
PRODID:-//habitat-2021.firespring.org//NONSGML kigkonsult.se iCalcreator 2.
 30.10//
CALSCALE:GREGORIAN
METHOD:PUBLISH
UID:e1af6504-e88b-4135-88f6-27092d53e904
X-WR-CALDESC:
X-WR-RELCALID:fec107b3bb18e4acc58daf5711e7b398
X-WR-TIMEZONE:America/Chicago
BEGIN:VTIMEZONE
TZID:America/Chicago
BEGIN:STANDARD
TZNAME:CST
DTSTART:20281105T020000
TZOFFSETFROM:-0500
TZOFFSETTO:-0600
RDATE:20291104T020000
END:STANDARD
BEGIN:DAYLIGHT
TZNAME:CDT
DTSTART:20280312T020000
TZOFFSETFROM:-0600
TZOFFSETTO:-0500
RDATE:20290311T020000
RDATE:20300310T020000
END:DAYLIGHT
END:VTIMEZONE
BEGIN:VEVENT
UID:38b44460-815b-46a2-bba1-6bff79300f4a
DTSTAMP:20260421T234249Z
DESCRIPTION:
DTSTART;TZID=America/Chicago:20281230T090000
DTEND;TZID=America/Chicago:20281230T100000
LOCATION:
SUMMARY:Build It Day
END:VEVENT
END:VCALENDAR
