BEGIN:VCALENDAR
VERSION:2.0
PRODID:-//habitat-2021.firespring.org//NONSGML kigkonsult.se iCalcreator 2.
 30.10//
CALSCALE:GREGORIAN
METHOD:PUBLISH
UID:1e81971b-7c92-4563-b9f6-73b4cb230fd8
X-WR-CALDESC:
X-WR-RELCALID:94b7e7f4d1b4d611bf278bff6eff5e52
X-WR-TIMEZONE:America/Chicago
BEGIN:VTIMEZONE
TZID:America/Chicago
BEGIN:STANDARD
TZNAME:CST
DTSTART:20281105T020000
TZOFFSETFROM:-0500
TZOFFSETTO:-0600
RDATE:20291104T020000
END:STANDARD
BEGIN:DAYLIGHT
TZNAME:CDT
DTSTART:20280312T020000
TZOFFSETFROM:-0600
TZOFFSETTO:-0500
RDATE:20290311T020000
RDATE:20300310T020000
END:DAYLIGHT
END:VTIMEZONE
BEGIN:VEVENT
UID:42b4b1a4-de8b-4243-8939-e9df65cc1fe8
DTSTAMP:20260422T012214Z
DESCRIPTION:
DTSTART;TZID=America/Chicago:20290113T090000
DTEND;TZID=America/Chicago:20290113T100000
LOCATION:
SUMMARY:Build It Day
END:VEVENT
END:VCALENDAR
