BEGIN:VCALENDAR
VERSION:2.0
PRODID:-//habitat-2021.firespring.org//NONSGML kigkonsult.se iCalcreator 2.
 30.10//
CALSCALE:GREGORIAN
METHOD:PUBLISH
UID:834d55f1-7dca-4aeb-8ba1-a52115e69a8a
X-WR-CALDESC:
X-WR-RELCALID:ef951c17529b0aea55fe758b1f88dcda
X-WR-TIMEZONE:America/Chicago
BEGIN:VTIMEZONE
TZID:America/Chicago
BEGIN:STANDARD
TZNAME:CST
DTSTART:20281105T020000
TZOFFSETFROM:-0500
TZOFFSETTO:-0600
RDATE:20291104T020000
END:STANDARD
BEGIN:DAYLIGHT
TZNAME:CDT
DTSTART:20280312T020000
TZOFFSETFROM:-0600
TZOFFSETTO:-0500
RDATE:20290311T020000
RDATE:20300310T020000
END:DAYLIGHT
END:VTIMEZONE
BEGIN:VEVENT
UID:eb0e0bd0-597f-441b-9a13-32544c43b585
DTSTAMP:20260422T012038Z
DESCRIPTION:
DTSTART;TZID=America/Chicago:20290127T090000
DTEND;TZID=America/Chicago:20290127T100000
LOCATION:
SUMMARY:Build It Day
END:VEVENT
END:VCALENDAR
