BEGIN:VCALENDAR
VERSION:2.0
PRODID:-//habitat-2021.firespring.org//NONSGML kigkonsult.se iCalcreator 2.
 30.10//
CALSCALE:GREGORIAN
METHOD:PUBLISH
UID:510a5985-d068-45a8-9908-c48b7bd332e7
X-WR-CALDESC:
X-WR-RELCALID:317f5e4b9a75e68f2e47366e685b628e
X-WR-TIMEZONE:America/Chicago
BEGIN:VTIMEZONE
TZID:America/Chicago
BEGIN:STANDARD
TZNAME:CST
DTSTART:20281105T020000
TZOFFSETFROM:-0500
TZOFFSETTO:-0600
RDATE:20291104T020000
END:STANDARD
BEGIN:DAYLIGHT
TZNAME:CDT
DTSTART:20280312T020000
TZOFFSETFROM:-0600
TZOFFSETTO:-0500
RDATE:20290311T020000
RDATE:20300310T020000
END:DAYLIGHT
END:VTIMEZONE
BEGIN:VEVENT
UID:cf4270ac-0db8-4631-96ba-c7e76e985ae9
DTSTAMP:20260422T025417Z
DESCRIPTION:
DTSTART;TZID=America/Chicago:20290209T183000
DTEND;TZID=America/Chicago:20290209T200000
LOCATION:
SUMMARY:Board Meeting
END:VEVENT
END:VCALENDAR
