BEGIN:VCALENDAR
VERSION:2.0
PRODID:-//habitat-2021.firespring.org//NONSGML kigkonsult.se iCalcreator 2.
 30.10//
CALSCALE:GREGORIAN
METHOD:PUBLISH
UID:5c7de4c9-b77f-429b-a75a-e3a91eedfa29
X-WR-CALDESC:
X-WR-RELCALID:658f8d828e68888e1151966a4aa31539
X-WR-TIMEZONE:America/Chicago
BEGIN:VTIMEZONE
TZID:America/Chicago
BEGIN:STANDARD
TZNAME:CST
DTSTART:20281105T020000
TZOFFSETFROM:-0500
TZOFFSETTO:-0600
RDATE:20291104T020000
END:STANDARD
BEGIN:DAYLIGHT
TZNAME:CDT
DTSTART:20280312T020000
TZOFFSETFROM:-0600
TZOFFSETTO:-0500
RDATE:20290311T020000
RDATE:20300310T020000
END:DAYLIGHT
END:VTIMEZONE
BEGIN:VEVENT
UID:d83916f4-3b2b-4524-b91d-48e8166b1aeb
DTSTAMP:20260422T025327Z
DESCRIPTION:
DTSTART;TZID=America/Chicago:20290210T090000
DTEND;TZID=America/Chicago:20290210T100000
LOCATION:
SUMMARY:Build It Day
END:VEVENT
END:VCALENDAR
