BEGIN:VCALENDAR
VERSION:2.0
PRODID:-//habitat-2021.firespring.org//NONSGML kigkonsult.se iCalcreator 2.
 30.10//
CALSCALE:GREGORIAN
METHOD:PUBLISH
UID:e694cbff-43bb-4cf3-96a6-cf6e55071eeb
X-WR-CALDESC:
X-WR-RELCALID:57b2a2a09146e2269a6f6cf18172dd9f
X-WR-TIMEZONE:America/Chicago
BEGIN:VTIMEZONE
TZID:America/Chicago
BEGIN:STANDARD
TZNAME:CST
DTSTART:20281105T020000
TZOFFSETFROM:-0500
TZOFFSETTO:-0600
RDATE:20291104T020000
END:STANDARD
BEGIN:DAYLIGHT
TZNAME:CDT
DTSTART:20280312T020000
TZOFFSETFROM:-0600
TZOFFSETTO:-0500
RDATE:20290311T020000
RDATE:20300310T020000
END:DAYLIGHT
END:VTIMEZONE
BEGIN:VEVENT
UID:3c1fc2e8-8d6e-4a38-8b70-72d8381b0ee2
DTSTAMP:20260422T025449Z
DESCRIPTION:
DTSTART;TZID=America/Chicago:20290224T090000
DTEND;TZID=America/Chicago:20290224T100000
LOCATION:
SUMMARY:Build It Day
END:VEVENT
END:VCALENDAR
