BEGIN:VCALENDAR
VERSION:2.0
PRODID:-//habitat-2021.firespring.org//NONSGML kigkonsult.se iCalcreator 2.
 30.10//
CALSCALE:GREGORIAN
METHOD:PUBLISH
UID:c051f76e-eea1-4b41-860c-c8f46f88a47d
X-WR-CALDESC:
X-WR-RELCALID:9bcb78126dada56157a77bd3bbe704a5
X-WR-TIMEZONE:America/Chicago
BEGIN:VTIMEZONE
TZID:America/Chicago
BEGIN:STANDARD
TZNAME:CST
DTSTART:20281105T020000
TZOFFSETFROM:-0500
TZOFFSETTO:-0600
RDATE:20291104T020000
END:STANDARD
BEGIN:DAYLIGHT
TZNAME:CDT
DTSTART:20280312T020000
TZOFFSETFROM:-0600
TZOFFSETTO:-0500
RDATE:20290311T020000
RDATE:20300310T020000
END:DAYLIGHT
END:VTIMEZONE
BEGIN:VEVENT
UID:0cb44298-74e2-4b15-bdaa-fd0b4774b125
DTSTAMP:20260422T042613Z
DESCRIPTION:
DTSTART;TZID=America/Chicago:20290310T090000
DTEND;TZID=America/Chicago:20290310T100000
LOCATION:
SUMMARY:Build It Day
END:VEVENT
END:VCALENDAR
