BEGIN:VCALENDAR
VERSION:2.0
PRODID:-//habitat-2021.firespring.org//NONSGML kigkonsult.se iCalcreator 2.
 30.10//
CALSCALE:GREGORIAN
METHOD:PUBLISH
UID:1d304080-9a96-4c0d-86f0-0881dbb78d40
X-WR-CALDESC:
X-WR-RELCALID:5e706478500d95920cdde7bc00979ab6
X-WR-TIMEZONE:America/Chicago
BEGIN:VTIMEZONE
TZID:America/Chicago
BEGIN:STANDARD
TZNAME:CST
DTSTART:20281105T020000
TZOFFSETFROM:-0500
TZOFFSETTO:-0600
RDATE:20291104T020000
END:STANDARD
BEGIN:DAYLIGHT
TZNAME:CDT
DTSTART:20290311T020000
TZOFFSETFROM:-0600
TZOFFSETTO:-0500
RDATE:20300310T020000
END:DAYLIGHT
END:VTIMEZONE
BEGIN:VEVENT
UID:9a9eccef-7945-446c-ba7b-9db36454ca57
DTSTAMP:20260422T045123Z
DESCRIPTION:
DTSTART;TZID=America/Chicago:20290324T090000
DTEND;TZID=America/Chicago:20290324T100000
LOCATION:
SUMMARY:Build It Day
END:VEVENT
END:VCALENDAR
