BEGIN:VCALENDAR
VERSION:2.0
PRODID:-//habitat-2021.firespring.org//NONSGML kigkonsult.se iCalcreator 2.
 30.10//
CALSCALE:GREGORIAN
METHOD:PUBLISH
UID:8a8f8ea2-dc09-4779-bd53-3ab8cf835183
X-WR-CALDESC:
X-WR-RELCALID:3561c87c69ecbed3b91a7f0d05acb571
X-WR-TIMEZONE:America/Chicago
BEGIN:VTIMEZONE
TZID:America/Chicago
BEGIN:STANDARD
TZNAME:CST
DTSTART:20281105T020000
TZOFFSETFROM:-0500
TZOFFSETTO:-0600
RDATE:20291104T020000
END:STANDARD
BEGIN:DAYLIGHT
TZNAME:CDT
DTSTART:20290311T020000
TZOFFSETFROM:-0600
TZOFFSETTO:-0500
RDATE:20300310T020000
END:DAYLIGHT
END:VTIMEZONE
BEGIN:VEVENT
UID:dcd82715-443c-449c-b1b5-bb275ee0f397
DTSTAMP:20260422T060124Z
DESCRIPTION:
DTSTART;TZID=America/Chicago:20290413T183000
DTEND;TZID=America/Chicago:20290413T200000
LOCATION:
SUMMARY:Board Meeting
END:VEVENT
END:VCALENDAR
