BEGIN:VCALENDAR
VERSION:2.0
PRODID:-//habitat-2021.firespring.org//NONSGML kigkonsult.se iCalcreator 2.
 30.10//
CALSCALE:GREGORIAN
METHOD:PUBLISH
UID:87c3a66c-d48f-41e9-b4b0-1d972d9e97b4
X-WR-CALDESC:
X-WR-RELCALID:03686774e30e0b418db2bf2b1ecd588f
X-WR-TIMEZONE:America/Chicago
BEGIN:VTIMEZONE
TZID:America/Chicago
BEGIN:STANDARD
TZNAME:CST
DTSTART:20281105T020000
TZOFFSETFROM:-0500
TZOFFSETTO:-0600
RDATE:20291104T020000
END:STANDARD
BEGIN:DAYLIGHT
TZNAME:CDT
DTSTART:20290311T020000
TZOFFSETFROM:-0600
TZOFFSETTO:-0500
RDATE:20300310T020000
END:DAYLIGHT
END:VTIMEZONE
BEGIN:VEVENT
UID:c5322c14-3709-4285-b7b1-2c3feb4f8441
DTSTAMP:20260422T055854Z
DESCRIPTION:
DTSTART;TZID=America/Chicago:20290421T090000
DTEND;TZID=America/Chicago:20290421T100000
LOCATION:
SUMMARY:Build It Day
END:VEVENT
END:VCALENDAR
