BEGIN:VCALENDAR
VERSION:2.0
PRODID:-//habitat-2021.firespring.org//NONSGML kigkonsult.se iCalcreator 2.
 30.10//
CALSCALE:GREGORIAN
METHOD:PUBLISH
UID:3947c633-0c20-4d99-b058-edff87b60829
X-WR-CALDESC:
X-WR-RELCALID:1c3b01b46a31ce96d16c227f73b27352
X-WR-TIMEZONE:America/Chicago
BEGIN:VTIMEZONE
TZID:America/Chicago
BEGIN:STANDARD
TZNAME:CST
DTSTART:20281105T020000
TZOFFSETFROM:-0500
TZOFFSETTO:-0600
RDATE:20291104T020000
RDATE:20301103T020000
END:STANDARD
BEGIN:DAYLIGHT
TZNAME:CDT
DTSTART:20290311T020000
TZOFFSETFROM:-0600
TZOFFSETTO:-0500
RDATE:20300310T020000
END:DAYLIGHT
END:VTIMEZONE
BEGIN:VEVENT
UID:b48f80a5-d04d-457d-9729-454f474713f8
DTSTAMP:20260422T074728Z
DESCRIPTION:
DTSTART;TZID=America/Chicago:20290511T183000
DTEND;TZID=America/Chicago:20290511T200000
LOCATION:
SUMMARY:Board Meeting
END:VEVENT
END:VCALENDAR
