BEGIN:VCALENDAR
VERSION:2.0
PRODID:-//habitat-2021.firespring.org//NONSGML kigkonsult.se iCalcreator 2.
 30.10//
CALSCALE:GREGORIAN
METHOD:PUBLISH
UID:aad7a7bd-4482-484b-b153-5e8aa6982d8c
X-WR-CALDESC:
X-WR-RELCALID:f83048fd9bf7e0171c67032d5bbf67b0
X-WR-TIMEZONE:America/Chicago
BEGIN:VTIMEZONE
TZID:America/Chicago
BEGIN:STANDARD
TZNAME:CST
DTSTART:20281105T020000
TZOFFSETFROM:-0500
TZOFFSETTO:-0600
RDATE:20291104T020000
RDATE:20301103T020000
END:STANDARD
BEGIN:DAYLIGHT
TZNAME:CDT
DTSTART:20290311T020000
TZOFFSETFROM:-0600
TZOFFSETTO:-0500
RDATE:20300310T020000
END:DAYLIGHT
END:VTIMEZONE
BEGIN:VEVENT
UID:94199927-0e98-4f66-b899-9c3ad590b5f5
DTSTAMP:20260422T074422Z
DESCRIPTION:
DTSTART;TZID=America/Chicago:20290519T090000
DTEND;TZID=America/Chicago:20290519T100000
LOCATION:
SUMMARY:Build It Day
END:VEVENT
END:VCALENDAR
