BEGIN:VCALENDAR
VERSION:2.0
PRODID:-//habitat-2021.firespring.org//NONSGML kigkonsult.se iCalcreator 2.
 30.10//
CALSCALE:GREGORIAN
METHOD:PUBLISH
UID:9d9e4801-190c-42db-8fd0-473faa994dba
X-WR-CALDESC:
X-WR-RELCALID:76ebdb6efc474bf4ea8bbc64d2fde2a8
X-WR-TIMEZONE:America/Chicago
BEGIN:VTIMEZONE
TZID:America/Chicago
BEGIN:STANDARD
TZNAME:CST
DTSTART:20281105T020000
TZOFFSETFROM:-0500
TZOFFSETTO:-0600
RDATE:20291104T020000
RDATE:20301103T020000
END:STANDARD
BEGIN:DAYLIGHT
TZNAME:CDT
DTSTART:20290311T020000
TZOFFSETFROM:-0600
TZOFFSETTO:-0500
RDATE:20300310T020000
END:DAYLIGHT
END:VTIMEZONE
BEGIN:VEVENT
UID:1e369356-673c-4d97-b903-623ec3db7d1d
DTSTAMP:20260422T093000Z
DESCRIPTION:
DTSTART;TZID=America/Chicago:20290602T090000
DTEND;TZID=America/Chicago:20290602T100000
LOCATION:
SUMMARY:Build It Day
END:VEVENT
END:VCALENDAR
