BEGIN:VCALENDAR
VERSION:2.0
PRODID:-//habitat-2021.firespring.org//NONSGML kigkonsult.se iCalcreator 2.
 30.10//
CALSCALE:GREGORIAN
METHOD:PUBLISH
UID:1c384ec7-e018-48e8-b661-5455b84adcfc
X-WR-CALDESC:
X-WR-RELCALID:39ebf577ad5c6ed618b2d4757d3ec6dc
X-WR-TIMEZONE:America/Chicago
BEGIN:VTIMEZONE
TZID:America/Chicago
BEGIN:STANDARD
TZNAME:CST
DTSTART:20281105T020000
TZOFFSETFROM:-0500
TZOFFSETTO:-0600
RDATE:20291104T020000
RDATE:20301103T020000
END:STANDARD
BEGIN:DAYLIGHT
TZNAME:CDT
DTSTART:20290311T020000
TZOFFSETFROM:-0600
TZOFFSETTO:-0500
RDATE:20300310T020000
END:DAYLIGHT
END:VTIMEZONE
BEGIN:VEVENT
UID:c02a7f54-6d16-49c8-bed0-7581dea11be1
DTSTAMP:20260422T092306Z
DESCRIPTION:
DTSTART;TZID=America/Chicago:20290608T183000
DTEND;TZID=America/Chicago:20290608T200000
LOCATION:
SUMMARY:Board Meeting
END:VEVENT
END:VCALENDAR
