BEGIN:VCALENDAR
VERSION:2.0
PRODID:-//habitat-2021.firespring.org//NONSGML kigkonsult.se iCalcreator 2.
 30.10//
CALSCALE:GREGORIAN
METHOD:PUBLISH
UID:b59286bb-1eb2-45c4-ab86-2848bb59b4d2
X-WR-CALDESC:
X-WR-RELCALID:3674aa431430a97f950028e9c2d377a8
X-WR-TIMEZONE:America/Chicago
BEGIN:VTIMEZONE
TZID:America/Chicago
BEGIN:STANDARD
TZNAME:CST
DTSTART:20281105T020000
TZOFFSETFROM:-0500
TZOFFSETTO:-0600
RDATE:20291104T020000
RDATE:20301103T020000
END:STANDARD
BEGIN:DAYLIGHT
TZNAME:CDT
DTSTART:20290311T020000
TZOFFSETFROM:-0600
TZOFFSETTO:-0500
RDATE:20300310T020000
END:DAYLIGHT
END:VTIMEZONE
BEGIN:VEVENT
UID:34827351-fdb2-45de-9036-154cf0c0ea15
DTSTAMP:20260422T092902Z
DESCRIPTION:
DTSTART;TZID=America/Chicago:20290616T090000
DTEND;TZID=America/Chicago:20290616T100000
LOCATION:
SUMMARY:Build It Day
END:VEVENT
END:VCALENDAR
