BEGIN:VCALENDAR
VERSION:2.0
PRODID:-//habitat-2021.firespring.org//NONSGML kigkonsult.se iCalcreator 2.
 30.10//
CALSCALE:GREGORIAN
METHOD:PUBLISH
UID:2199877a-1233-4322-bb66-8717a6eb9555
X-WR-CALDESC:
X-WR-RELCALID:6227525fc29bd8e59868454e7ca68304
X-WR-TIMEZONE:America/Chicago
BEGIN:VTIMEZONE
TZID:America/Chicago
BEGIN:STANDARD
TZNAME:CST
DTSTART:20281105T020000
TZOFFSETFROM:-0500
TZOFFSETTO:-0600
RDATE:20291104T020000
RDATE:20301103T020000
END:STANDARD
BEGIN:DAYLIGHT
TZNAME:CDT
DTSTART:20290311T020000
TZOFFSETFROM:-0600
TZOFFSETTO:-0500
RDATE:20300310T020000
END:DAYLIGHT
END:VTIMEZONE
BEGIN:VEVENT
UID:bddbbcf6-0869-4238-8242-591d72ba8026
DTSTAMP:20260422T090950Z
DESCRIPTION:
DTSTART;TZID=America/Chicago:20290630T090000
DTEND;TZID=America/Chicago:20290630T100000
LOCATION:
SUMMARY:Build It Day
END:VEVENT
END:VCALENDAR
