BEGIN:VCALENDAR
VERSION:2.0
PRODID:-//habitat-2021.firespring.org//NONSGML kigkonsult.se iCalcreator 2.
 30.10//
CALSCALE:GREGORIAN
METHOD:PUBLISH
UID:77a9593b-fe6d-43ec-9645-8a0c8a0e1cf1
X-WR-CALDESC:
X-WR-RELCALID:764dde2a072ffea135996454a035b57a
X-WR-TIMEZONE:America/Chicago
BEGIN:VTIMEZONE
TZID:America/Chicago
BEGIN:STANDARD
TZNAME:CST
DTSTART:20281105T020000
TZOFFSETFROM:-0500
TZOFFSETTO:-0600
RDATE:20291104T020000
RDATE:20301103T020000
END:STANDARD
BEGIN:DAYLIGHT
TZNAME:CDT
DTSTART:20290311T020000
TZOFFSETFROM:-0600
TZOFFSETTO:-0500
RDATE:20300310T020000
END:DAYLIGHT
END:VTIMEZONE
BEGIN:VEVENT
UID:05ed60a3-9d6e-44d1-a6ca-5699d3079e2a
DTSTAMP:20260422T110649Z
DESCRIPTION:
DTSTART;TZID=America/Chicago:20290713T183000
DTEND;TZID=America/Chicago:20290713T200000
LOCATION:
SUMMARY:Board Meeting
END:VEVENT
END:VCALENDAR
