BEGIN:VCALENDAR
VERSION:2.0
PRODID:-//habitat-2021.firespring.org//NONSGML kigkonsult.se iCalcreator 2.
 30.10//
CALSCALE:GREGORIAN
METHOD:PUBLISH
UID:9848fcec-a01c-424c-be1f-c28a5f6ea473
X-WR-CALDESC:
X-WR-RELCALID:392ee9fdc0173c4ed172a0e5f6afcbe9
X-WR-TIMEZONE:America/Chicago
BEGIN:VTIMEZONE
TZID:America/Chicago
BEGIN:STANDARD
TZNAME:CST
DTSTART:20281105T020000
TZOFFSETFROM:-0500
TZOFFSETTO:-0600
RDATE:20291104T020000
RDATE:20301103T020000
END:STANDARD
BEGIN:DAYLIGHT
TZNAME:CDT
DTSTART:20290311T020000
TZOFFSETFROM:-0600
TZOFFSETTO:-0500
RDATE:20300310T020000
END:DAYLIGHT
END:VTIMEZONE
BEGIN:VEVENT
UID:9e08950f-1fa7-4cd9-9ffe-d05fa230fbf8
DTSTAMP:20260422T110649Z
DESCRIPTION:
DTSTART;TZID=America/Chicago:20290714T090000
DTEND;TZID=America/Chicago:20290714T100000
LOCATION:
SUMMARY:Build It Day
END:VEVENT
END:VCALENDAR
