BEGIN:VCALENDAR
VERSION:2.0
PRODID:-//habitat-2021.firespring.org//NONSGML kigkonsult.se iCalcreator 2.
 30.10//
CALSCALE:GREGORIAN
METHOD:PUBLISH
UID:234b02d6-6c22-4d17-8874-275875a766c6
X-WR-CALDESC:
X-WR-RELCALID:b11f2b5956322ebdb9841da66424f048
X-WR-TIMEZONE:America/Chicago
BEGIN:VTIMEZONE
TZID:America/Chicago
BEGIN:STANDARD
TZNAME:CST
DTSTART:20281105T020000
TZOFFSETFROM:-0500
TZOFFSETTO:-0600
RDATE:20291104T020000
RDATE:20301103T020000
END:STANDARD
BEGIN:DAYLIGHT
TZNAME:CDT
DTSTART:20290311T020000
TZOFFSETFROM:-0600
TZOFFSETTO:-0500
RDATE:20300310T020000
END:DAYLIGHT
END:VTIMEZONE
BEGIN:VEVENT
UID:3f0ab42b-f7c7-4d36-ab01-ba0204c3f9f0
DTSTAMP:20260422T123351Z
DESCRIPTION:
DTSTART;TZID=America/Chicago:20290810T183000
DTEND;TZID=America/Chicago:20290810T200000
LOCATION:
SUMMARY:Board Meeting
END:VEVENT
END:VCALENDAR
