BEGIN:VCALENDAR
VERSION:2.0
PRODID:-//habitat-2021.firespring.org//NONSGML kigkonsult.se iCalcreator 2.
 30.10//
CALSCALE:GREGORIAN
METHOD:PUBLISH
UID:90fb904e-eedd-4e7b-87e1-717a4398adf9
X-WR-CALDESC:
X-WR-RELCALID:2b3d495f272525b6148d68b56500b673
X-WR-TIMEZONE:America/Chicago
BEGIN:VTIMEZONE
TZID:America/Chicago
BEGIN:STANDARD
TZNAME:CST
DTSTART:20281105T020000
TZOFFSETFROM:-0500
TZOFFSETTO:-0600
RDATE:20291104T020000
RDATE:20301103T020000
END:STANDARD
BEGIN:DAYLIGHT
TZNAME:CDT
DTSTART:20290311T020000
TZOFFSETFROM:-0600
TZOFFSETTO:-0500
RDATE:20300310T020000
END:DAYLIGHT
END:VTIMEZONE
BEGIN:VEVENT
UID:ddcfefc6-a8d8-4adb-9930-177e8bb01b19
DTSTAMP:20260422T123240Z
DESCRIPTION:
DTSTART;TZID=America/Chicago:20290811T090000
DTEND;TZID=America/Chicago:20290811T100000
LOCATION:
SUMMARY:Build It Day
END:VEVENT
END:VCALENDAR
