BEGIN:VCALENDAR
VERSION:2.0
PRODID:-//habitat-2021.firespring.org//NONSGML kigkonsult.se iCalcreator 2.
 30.10//
CALSCALE:GREGORIAN
METHOD:PUBLISH
UID:cc6df43f-eb49-486c-982f-7ce3b5ddc696
X-WR-CALDESC:
X-WR-RELCALID:4d14af4bf437086c9b009719afaa9a46
X-WR-TIMEZONE:America/Chicago
BEGIN:VTIMEZONE
TZID:America/Chicago
BEGIN:STANDARD
TZNAME:CST
DTSTART:20281105T020000
TZOFFSETFROM:-0500
TZOFFSETTO:-0600
RDATE:20291104T020000
RDATE:20301103T020000
END:STANDARD
BEGIN:DAYLIGHT
TZNAME:CDT
DTSTART:20290311T020000
TZOFFSETFROM:-0600
TZOFFSETTO:-0500
RDATE:20300310T020000
END:DAYLIGHT
END:VTIMEZONE
BEGIN:VEVENT
UID:46592955-b367-4f35-85c7-a31d958246e5
DTSTAMP:20260422T121916Z
DESCRIPTION:
DTSTART;TZID=America/Chicago:20290825T090000
DTEND;TZID=America/Chicago:20290825T100000
LOCATION:
SUMMARY:Build It Day
END:VEVENT
END:VCALENDAR
