BEGIN:VCALENDAR
VERSION:2.0
PRODID:-//habitat-2021.firespring.org//NONSGML kigkonsult.se iCalcreator 2.
 30.10//
CALSCALE:GREGORIAN
METHOD:PUBLISH
UID:4cf1a84e-56e4-4011-8e14-ebd10371cdd4
X-WR-CALDESC:
X-WR-RELCALID:6d2b330315aa0ece8ac630b65ee3c4fe
X-WR-TIMEZONE:America/Chicago
BEGIN:VTIMEZONE
TZID:America/Chicago
BEGIN:STANDARD
TZNAME:CST
DTSTART:20281105T020000
TZOFFSETFROM:-0500
TZOFFSETTO:-0600
RDATE:20291104T020000
RDATE:20301103T020000
END:STANDARD
BEGIN:DAYLIGHT
TZNAME:CDT
DTSTART:20290311T020000
TZOFFSETFROM:-0600
TZOFFSETTO:-0500
RDATE:20300310T020000
RDATE:20310309T020000
END:DAYLIGHT
END:VTIMEZONE
BEGIN:VEVENT
UID:c6aa0ab3-cc89-4ba1-b427-e642f6b66ff5
DTSTAMP:20260422T140251Z
DESCRIPTION:
DTSTART;TZID=America/Chicago:20290908T090000
DTEND;TZID=America/Chicago:20290908T100000
LOCATION:
SUMMARY:Build It Day
END:VEVENT
END:VCALENDAR
