BEGIN:VCALENDAR
VERSION:2.0
PRODID:-//habitat-2021.firespring.org//NONSGML kigkonsult.se iCalcreator 2.
 30.10//
CALSCALE:GREGORIAN
METHOD:PUBLISH
UID:55eb043e-7231-4db6-b79a-85e1d03ae1e4
X-WR-CALDESC:
X-WR-RELCALID:368906a1a723dd8cec307cd23799f181
X-WR-TIMEZONE:America/Chicago
BEGIN:VTIMEZONE
TZID:America/Chicago
BEGIN:STANDARD
TZNAME:CST
DTSTART:20281105T020000
TZOFFSETFROM:-0500
TZOFFSETTO:-0600
RDATE:20291104T020000
RDATE:20301103T020000
END:STANDARD
BEGIN:DAYLIGHT
TZNAME:CDT
DTSTART:20290311T020000
TZOFFSETFROM:-0600
TZOFFSETTO:-0500
RDATE:20300310T020000
RDATE:20310309T020000
END:DAYLIGHT
END:VTIMEZONE
BEGIN:VEVENT
UID:24a5a080-150b-4491-a571-a171c94cf5fe
DTSTAMP:20260422T155630Z
DESCRIPTION:
DTSTART;TZID=America/Chicago:20291006T090000
DTEND;TZID=America/Chicago:20291006T100000
LOCATION:
SUMMARY:Build It Day
END:VEVENT
END:VCALENDAR
