BEGIN:VCALENDAR
VERSION:2.0
PRODID:-//habitat-2021.firespring.org//NONSGML kigkonsult.se iCalcreator 2.
 30.10//
CALSCALE:GREGORIAN
METHOD:PUBLISH
UID:3d2442ef-eb08-4834-95cb-0d22541a2e4d
X-WR-CALDESC:
X-WR-RELCALID:d4bde53ce11542d316059a9891bd5102
X-WR-TIMEZONE:America/Chicago
BEGIN:VTIMEZONE
TZID:America/Chicago
BEGIN:STANDARD
TZNAME:CST
DTSTART:20281105T020000
TZOFFSETFROM:-0500
TZOFFSETTO:-0600
RDATE:20291104T020000
RDATE:20301103T020000
END:STANDARD
BEGIN:DAYLIGHT
TZNAME:CDT
DTSTART:20290311T020000
TZOFFSETFROM:-0600
TZOFFSETTO:-0500
RDATE:20300310T020000
RDATE:20310309T020000
END:DAYLIGHT
END:VTIMEZONE
BEGIN:VEVENT
UID:34da1291-69b5-4f5e-86a0-a545dcd81275
DTSTAMP:20260422T154745Z
DESCRIPTION:
DTSTART;TZID=America/Chicago:20291012T183000
DTEND;TZID=America/Chicago:20291012T200000
LOCATION:
SUMMARY:Board Meeting
END:VEVENT
END:VCALENDAR
