BEGIN:VCALENDAR
VERSION:2.0
PRODID:-//habitat-2021.firespring.org//NONSGML kigkonsult.se iCalcreator 2.
 30.10//
CALSCALE:GREGORIAN
METHOD:PUBLISH
UID:552dd1da-1830-44ba-a7f0-39f572a1c98f
X-WR-CALDESC:
X-WR-RELCALID:6641a330bfcaec7d4beb248097a74733
X-WR-TIMEZONE:America/Chicago
BEGIN:VTIMEZONE
TZID:America/Chicago
BEGIN:STANDARD
TZNAME:CST
DTSTART:20281105T020000
TZOFFSETFROM:-0500
TZOFFSETTO:-0600
RDATE:20291104T020000
RDATE:20301103T020000
END:STANDARD
BEGIN:DAYLIGHT
TZNAME:CDT
DTSTART:20290311T020000
TZOFFSETFROM:-0600
TZOFFSETTO:-0500
RDATE:20300310T020000
RDATE:20310309T020000
END:DAYLIGHT
END:VTIMEZONE
BEGIN:VEVENT
UID:a0134ff5-061d-435c-8f83-59e7d066bb28
DTSTAMP:20260422T200032Z
DESCRIPTION:
DTSTART;TZID=America/Chicago:20291020T090000
DTEND;TZID=America/Chicago:20291020T100000
LOCATION:
SUMMARY:Build It Day
END:VEVENT
END:VCALENDAR
