BEGIN:VCALENDAR
VERSION:2.0
PRODID:-//habitat-2021.firespring.org//NONSGML kigkonsult.se iCalcreator 2.
 30.10//
CALSCALE:GREGORIAN
METHOD:PUBLISH
UID:6e73b082-49ce-48d5-b808-836de9d8162a
X-WR-CALDESC:
X-WR-RELCALID:04620d143fd71a0fac3db8fc4bcdbc74
X-WR-TIMEZONE:America/Chicago
BEGIN:VTIMEZONE
TZID:America/Chicago
BEGIN:STANDARD
TZNAME:CST
DTSTART:20291104T020000
TZOFFSETFROM:-0500
TZOFFSETTO:-0600
RDATE:20301103T020000
END:STANDARD
BEGIN:DAYLIGHT
TZNAME:CDT
DTSTART:20290311T020000
TZOFFSETFROM:-0600
TZOFFSETTO:-0500
RDATE:20300310T020000
RDATE:20310309T020000
END:DAYLIGHT
END:VTIMEZONE
BEGIN:VEVENT
UID:6dc118fd-6ae2-42dc-b591-ab81c3a82ef9
DTSTAMP:20260422T171015Z
DESCRIPTION:
DTSTART;TZID=America/Chicago:20291117T090000
DTEND;TZID=America/Chicago:20291117T100000
LOCATION:
SUMMARY:Build It Day
END:VEVENT
END:VCALENDAR
