BEGIN:VCALENDAR
VERSION:2.0
PRODID:-//habitat-2021.firespring.org//NONSGML kigkonsult.se iCalcreator 2.
 30.10//
CALSCALE:GREGORIAN
METHOD:PUBLISH
UID:2358a0aa-a228-49a2-bc6e-380f7cce2f4b
X-WR-CALDESC:
X-WR-RELCALID:d4e81c3d1a00be6012312b0b9afe0bf5
X-WR-TIMEZONE:America/Chicago
BEGIN:VTIMEZONE
TZID:America/Chicago
BEGIN:STANDARD
TZNAME:CST
DTSTART:20291104T020000
TZOFFSETFROM:-0500
TZOFFSETTO:-0600
RDATE:20301103T020000
END:STANDARD
BEGIN:DAYLIGHT
TZNAME:CDT
DTSTART:20290311T020000
TZOFFSETFROM:-0600
TZOFFSETTO:-0500
RDATE:20300310T020000
RDATE:20310309T020000
END:DAYLIGHT
END:VTIMEZONE
BEGIN:VEVENT
UID:fbd74581-62d4-4fbd-ba25-94f657959942
DTSTAMP:20260422T185905Z
DESCRIPTION:
DTSTART;TZID=America/Chicago:20291201T090000
DTEND;TZID=America/Chicago:20291201T100000
LOCATION:
SUMMARY:Build It Day
END:VEVENT
END:VCALENDAR
