BEGIN:VCALENDAR
VERSION:2.0
PRODID:-//habitat-2021.firespring.org//NONSGML kigkonsult.se iCalcreator 2.
 30.10//
CALSCALE:GREGORIAN
METHOD:PUBLISH
UID:8deb0449-876f-41d0-8faf-18c452853a4b
X-WR-CALDESC:
X-WR-RELCALID:4a7110319246750aff495fbce0d5b242
X-WR-TIMEZONE:America/Chicago
BEGIN:VTIMEZONE
TZID:America/Chicago
BEGIN:STANDARD
TZNAME:CST
DTSTART:20291104T020000
TZOFFSETFROM:-0500
TZOFFSETTO:-0600
RDATE:20301103T020000
END:STANDARD
BEGIN:DAYLIGHT
TZNAME:CDT
DTSTART:20290311T020000
TZOFFSETFROM:-0600
TZOFFSETTO:-0500
RDATE:20300310T020000
RDATE:20310309T020000
END:DAYLIGHT
END:VTIMEZONE
BEGIN:VEVENT
UID:a55ff9c6-f884-4704-91f2-77b9466a4c12
DTSTAMP:20260422T185918Z
DESCRIPTION:
DTSTART;TZID=America/Chicago:20291214T183000
DTEND;TZID=America/Chicago:20291214T200000
LOCATION:
SUMMARY:Board Meeting
END:VEVENT
END:VCALENDAR
