BEGIN:VCALENDAR
VERSION:2.0
PRODID:-//habitat-2021.firespring.org//NONSGML kigkonsult.se iCalcreator 2.
 30.10//
CALSCALE:GREGORIAN
METHOD:PUBLISH
UID:dc57d1d6-c00f-41ee-b531-a04066cb86c9
X-WR-CALDESC:
X-WR-RELCALID:a018a14b0888ae187e78095f65c7f896
X-WR-TIMEZONE:America/Chicago
BEGIN:VTIMEZONE
TZID:America/Chicago
BEGIN:STANDARD
TZNAME:CST
DTSTART:20291104T020000
TZOFFSETFROM:-0500
TZOFFSETTO:-0600
RDATE:20301103T020000
END:STANDARD
BEGIN:DAYLIGHT
TZNAME:CDT
DTSTART:20290311T020000
TZOFFSETFROM:-0600
TZOFFSETTO:-0500
RDATE:20300310T020000
RDATE:20310309T020000
END:DAYLIGHT
END:VTIMEZONE
BEGIN:VEVENT
UID:2a7aca37-a18e-4eba-9318-122fa929c41f
DTSTAMP:20260422T184109Z
DESCRIPTION:
DTSTART;TZID=America/Chicago:20291229T090000
DTEND;TZID=America/Chicago:20291229T100000
LOCATION:
SUMMARY:Build It Day
END:VEVENT
END:VCALENDAR
